BEGIN:VCALENDAR
VERSION:2.0
PRODID:-//Third Coast Percussion - ECPv4.9.13//NONSGML v1.0//EN
CALSCALE:GREGORIAN
METHOD:PUBLISH
X-WR-CALNAME:Third Coast Percussion
X-ORIGINAL-URL:https://www.thirdcoastpercussion.com
X-WR-CALDESC:Events for Third Coast Percussion
BEGIN:VTIMEZONE
TZID:America/Los_Angeles
BEGIN:DAYLIGHT
TZOFFSETFROM:-0800
TZOFFSETTO:-0700
TZNAME:PDT
DTSTART:20190310T100000
END:DAYLIGHT
BEGIN:STANDARD
TZOFFSETFROM:-0700
TZOFFSETTO:-0800
TZNAME:PST
DTSTART:20191103T090000
END:STANDARD
END:VTIMEZONE
BEGIN:VEVENT
DTSTART;TZID=America/Los_Angeles:20190730T193000
DTEND;TZID=America/Los_Angeles:20190730T193000
DTSTAMP:20260421T104852
CREATED:20190520T180308Z
LAST-MODIFIED:20190520T180308Z
UID:5277-1564515000-1564515000@www.thirdcoastpercussion.com
SUMMARY:Bravo! Vail — 2019 (1 of 3)
DESCRIPTION:TCP is thrilled to return to Bravo! Vail. TCP will perform three concerts during its residency at the festival. \nPaddle to the Sea \nTHIRD COAST PERCUSSION Paddle to the Sea\nPHILIP GLASS Aguas da Amazonia (arr. by Third Coast Percussion)\nJACOB DRUCKMAN Reflections on the Nature of Water\nTRADITIONAL Chigwaya (arr. by Musekiwa Chingodza) \nClick here for more info and to purchase tickets. \nThis project is supported by the Paul M. Angell Family Foundation and a grant from the National Endowment for the Arts\, with additional support from the Elizabeth F Cheney Foundation\, and is made possible through a collaboration with the National Film Board of Canada. \n           \nPaddle to the Sea was commissioned with lead support from the Maxine and Stuart Frankel Foundation. The work was co-commissioned by the Cleveland Museum of Art\, the Meany Center for the Performing Arts at University of Washington\, ArtsLIVE at University of Dayton\, and the University of Notre Dame’s DeBartolo Performing Arts Center. \n
URL:https://www.thirdcoastpercussion.com/event/bravo-vail-2019-1-of-3/
LOCATION:Donovan Pavilion\, 1600 South Frontage Road W\, Vail\, CO\, 81657\, United States
END:VEVENT
END:VCALENDAR