BEGIN:VCALENDAR
VERSION:2.0
PRODID:-//Third Coast Percussion - ECPv4.9.13//NONSGML v1.0//EN
CALSCALE:GREGORIAN
METHOD:PUBLISH
X-WR-CALNAME:Third Coast Percussion
X-ORIGINAL-URL:https://www.thirdcoastpercussion.com
X-WR-CALDESC:Events for Third Coast Percussion
BEGIN:VTIMEZONE
TZID:America/Los_Angeles
BEGIN:DAYLIGHT
TZOFFSETFROM:-0800
TZOFFSETTO:-0700
TZNAME:PDT
DTSTART:20190310T100000
END:DAYLIGHT
BEGIN:STANDARD
TZOFFSETFROM:-0700
TZOFFSETTO:-0800
TZNAME:PST
DTSTART:20191103T090000
END:STANDARD
END:VTIMEZONE
BEGIN:VEVENT
DTSTART;TZID=America/Los_Angeles:20190801T193000
DTEND;TZID=America/Los_Angeles:20190801T193000
DTSTAMP:20260421T085801
CREATED:20190520T185030Z
LAST-MODIFIED:20190520T185030Z
UID:5285-1564687800-1564687800@www.thirdcoastpercussion.com
SUMMARY:Bravo! Vail — 2019 (3 of 3)
DESCRIPTION:TCP is thrilled to return to Bravo! Vail. TCP will perform three concerts during its residency at the festival. \nA Glass Premiere  \nPHILIP GLASS Perpetulum (co-commissioned by Bravo! Vail)\nGEORGE CRUMB Music for a Summer Evening \nClick here for more information and to purchase tickets. \nPerpetulum by Philip Glass was commissioned for Third Coast Percussion with lead support from the Maxine and Stuart Frankel Foundation. The work was co-commissioned by Elizabeth and Justus Schlichting for Segerstrom Center for the Arts\, Bravo! Vail Music Festival\, San Francisco Performances\, Town Hall Seattle\, Performance Santa Fe\, the University of Notre Dame’s DeBartolo Performing Arts Center\, and the Third Coast Percussion New Works Fund\, with additional support from Friedrich Burian\, Bruce Oltman\, MiTO Settembre Musica\, The Saint Paul Chamber Orchestra’s Liquid Music Series\, and the Percussive Arts Society. \n
URL:https://www.thirdcoastpercussion.com/event/bravo-vail-2019-3-of-3/
LOCATION:Donovan Pavilion\, 1600 South Frontage Road W\, Vail\, CO\, 81657\, United States
END:VEVENT
END:VCALENDAR