BEGIN:VCALENDAR
VERSION:2.0
PRODID:-//Third Coast Percussion - ECPv4.9.13//NONSGML v1.0//EN
CALSCALE:GREGORIAN
METHOD:PUBLISH
X-WR-CALNAME:Third Coast Percussion
X-ORIGINAL-URL:https://www.thirdcoastpercussion.com
X-WR-CALDESC:Events for Third Coast Percussion
BEGIN:VTIMEZONE
TZID:America/Chicago
BEGIN:DAYLIGHT
TZOFFSETFROM:-0600
TZOFFSETTO:-0500
TZNAME:CDT
DTSTART:20160313T080000
END:DAYLIGHT
BEGIN:STANDARD
TZOFFSETFROM:-0500
TZOFFSETTO:-0600
TZNAME:CST
DTSTART:20161106T070000
END:STANDARD
END:VTIMEZONE
BEGIN:VEVENT
DTSTART;TZID=America/Chicago:20160405T193000
DTEND;TZID=America/Chicago:20160405T193000
DTSTAMP:20260421T160546
CREATED:20150806T114049Z
LAST-MODIFIED:20150806T114049Z
UID:2555-1459884600-1459884600@www.thirdcoastpercussion.com
SUMMARY:Britt Music Festival / Southern Oregon University
DESCRIPTION:“Points of Contact” \nOWEN CLAYTON CONDON Fractalia\nTHIERRY DE MEY Table Music\nAUGUSTA READ THOMAS Resounding Earth\nDAVID SKIDMORE Trying\nSTEVE REICH Music for Pieces of Wood\nTOBIAS BROSTRÖM Twilight\nALEXANDRE LUNSQUI Shi\nJOHN CAGE Third Construction \n
URL:https://www.thirdcoastpercussion.com/event/britt-music-festival-southern-oregon-university/
END:VEVENT
END:VCALENDAR