BEGIN:VCALENDAR
VERSION:2.0
PRODID:-//Third Coast Percussion - ECPv4.9.13//NONSGML v1.0//EN
CALSCALE:GREGORIAN
METHOD:PUBLISH
X-WR-CALNAME:Third Coast Percussion
X-ORIGINAL-URL:https://www.thirdcoastpercussion.com
X-WR-CALDESC:Events for Third Coast Percussion
BEGIN:VTIMEZONE
TZID:America/Chicago
BEGIN:DAYLIGHT
TZOFFSETFROM:-0600
TZOFFSETTO:-0500
TZNAME:CDT
DTSTART:20260308T080000
END:DAYLIGHT
BEGIN:STANDARD
TZOFFSETFROM:-0500
TZOFFSETTO:-0600
TZNAME:CST
DTSTART:20261101T070000
END:STANDARD
END:VTIMEZONE
BEGIN:VEVENT
DTSTART;TZID=America/Chicago:20260320T193000
DTEND;TZID=America/Chicago:20260320T213000
DTSTAMP:20260422T162931
CREATED:20260114T201752Z
LAST-MODIFIED:20260316T151028Z
UID:14685-1774035000-1774042200@www.thirdcoastpercussion.com
SUMMARY:BYU-Idaho
DESCRIPTION:
URL:https://www.thirdcoastpercussion.com/event/byu-idaho/
LOCATION:BYU-Idaho\, 5 W. 2nd Street\, Rexburg\, ID\, 83460\, United States
CATEGORIES:Touring
END:VEVENT
END:VCALENDAR