BEGIN:VCALENDAR
VERSION:2.0
PRODID:-//Third Coast Percussion - ECPv4.9.13//NONSGML v1.0//EN
CALSCALE:GREGORIAN
METHOD:PUBLISH
X-WR-CALNAME:Third Coast Percussion
X-ORIGINAL-URL:https://www.thirdcoastpercussion.com
X-WR-CALDESC:Events for Third Coast Percussion
BEGIN:VTIMEZONE
TZID:America/Chicago
BEGIN:DAYLIGHT
TZOFFSETFROM:-0600
TZOFFSETTO:-0500
TZNAME:CDT
DTSTART:20210314T080000
END:DAYLIGHT
BEGIN:STANDARD
TZOFFSETFROM:-0500
TZOFFSETTO:-0600
TZNAME:CST
DTSTART:20211107T070000
END:STANDARD
END:VTIMEZONE
BEGIN:VEVENT
DTSTART;TZID=America/Chicago:20210513T210000
DTEND;TZID=America/Chicago:20210513T233000
DTSTAMP:20260423T201400
CREATED:20210506T201518Z
LAST-MODIFIED:20210511T213701Z
UID:8859-1620939600-1620948600@www.thirdcoastpercussion.com
SUMMARY:Chandler Center for the Arts — ONLINE
DESCRIPTION:
URL:https://www.thirdcoastpercussion.com/event/chandler-center-for-the-arts-online/
LOCATION:Chandler Center for the Arts — ONLINE\, 250 North Arizona Ave\, Chandler\, AZ\, 85225
END:VEVENT
END:VCALENDAR