BEGIN:VCALENDAR
VERSION:2.0
PRODID:-//Third Coast Percussion - ECPv4.9.13//NONSGML v1.0//EN
CALSCALE:GREGORIAN
METHOD:PUBLISH
X-WR-CALNAME:Third Coast Percussion
X-ORIGINAL-URL:https://www.thirdcoastpercussion.com
X-WR-CALDESC:Events for Third Coast Percussion
BEGIN:VTIMEZONE
TZID:America/Los_Angeles
BEGIN:DAYLIGHT
TZOFFSETFROM:-0800
TZOFFSETTO:-0700
TZNAME:PDT
DTSTART:20170312T100000
END:DAYLIGHT
BEGIN:STANDARD
TZOFFSETFROM:-0700
TZOFFSETTO:-0800
TZNAME:PST
DTSTART:20171105T090000
END:STANDARD
END:VTIMEZONE
BEGIN:VEVENT
DTSTART;TZID=America/Los_Angeles:20170624T200000
DTEND;TZID=America/Los_Angeles:20170624T200000
DTSTAMP:20260421T015443
CREATED:20170425T234807Z
LAST-MODIFIED:20170425T234807Z
UID:3209-1498334400-1498334400@www.thirdcoastpercussion.com
SUMMARY:Cleveland Museum of Art - Solstice 2017
DESCRIPTION:TCP opens the biggest party in Cleveland with a set of music by Steve Reich\, Glenn Kotche\, Marc Mellits\, and TCP member David Skidmore. \nClick here for more info. \n
URL:https://www.thirdcoastpercussion.com/event/cleveland-museum-art-solstice-2017/
LOCATION:Cleveland Museum of Art\, 11150 East Blvd\, Cleveland\, OH\, 44106\, United States
END:VEVENT
END:VCALENDAR