BEGIN:VCALENDAR
VERSION:2.0
PRODID:-//Third Coast Percussion - ECPv4.9.13//NONSGML v1.0//EN
CALSCALE:GREGORIAN
METHOD:PUBLISH
X-WR-CALNAME:Third Coast Percussion
X-ORIGINAL-URL:https://www.thirdcoastpercussion.com
X-WR-CALDESC:Events for Third Coast Percussion
BEGIN:VTIMEZONE
TZID:America/Los_Angeles
BEGIN:DAYLIGHT
TZOFFSETFROM:-0800
TZOFFSETTO:-0700
TZNAME:PDT
DTSTART:20180311T100000
END:DAYLIGHT
BEGIN:STANDARD
TZOFFSETFROM:-0700
TZOFFSETTO:-0800
TZNAME:PST
DTSTART:20181104T090000
END:STANDARD
END:VTIMEZONE
BEGIN:VEVENT
DTSTART;TZID=America/Los_Angeles:20180617T203000
DTEND;TZID=America/Los_Angeles:20180617T203000
DTSTAMP:20260419T125730
CREATED:20171215T194620Z
LAST-MODIFIED:20171215T194620Z
UID:4049-1529267400-1529267400@www.thirdcoastpercussion.com
SUMMARY:Currents at Constellation
DESCRIPTION:\nAYANNA WOODS Triple Point (Emerging Composers Partnership)\nMARK APPLEBAUM Aphasia\nDREW WORDEN Escape\nGEMMA PEACOCKE Death Wish\nAUGUSTA READ THOMAS Qi\nCHRIS CERRONE A Natural History of Vacant Lots \nThird Coast Percussion’s “Currents” is made possible by generous support from Sidney K Robinson. \nClick here to purchase tickets to “Currents.” \n
URL:https://www.thirdcoastpercussion.com/event/currents-at-constellation/
LOCATION:Constellation\, 3111 N Western Ave\, Chicago\, IL\, 60618\, United States
CATEGORIES:Chicago Concert Season
END:VEVENT
END:VCALENDAR