BEGIN:VCALENDAR
VERSION:2.0
PRODID:-//Third Coast Percussion - ECPv4.9.13//NONSGML v1.0//EN
CALSCALE:GREGORIAN
METHOD:PUBLISH
X-WR-CALNAME:Third Coast Percussion
X-ORIGINAL-URL:https://www.thirdcoastpercussion.com
X-WR-CALDESC:Events for Third Coast Percussion
BEGIN:VTIMEZONE
TZID:America/Los_Angeles
BEGIN:DAYLIGHT
TZOFFSETFROM:-0800
TZOFFSETTO:-0700
TZNAME:PDT
DTSTART:20190310T100000
END:DAYLIGHT
BEGIN:STANDARD
TZOFFSETFROM:-0700
TZOFFSETTO:-0800
TZNAME:PST
DTSTART:20191103T090000
END:STANDARD
END:VTIMEZONE
BEGIN:VEVENT
DTSTART;VALUE=DATE:20191203
DTEND;VALUE=DATE:20191209
DTSTAMP:20260420T030457
CREATED:20190716T181151Z
LAST-MODIFIED:20191122T153110Z
UID:5468-1575331200-1575849599@www.thirdcoastpercussion.com
SUMMARY:Denison University Residency
DESCRIPTION:TCP will teach and work with Denison University students. \n
URL:https://www.thirdcoastpercussion.com/event/denison-university-residency/
LOCATION:Denison University — ONLINE\, 100 West College Street\, Granville\, OH\, 43023\, United States
END:VEVENT
END:VCALENDAR