BEGIN:VCALENDAR
VERSION:2.0
PRODID:-//Third Coast Percussion - ECPv4.9.13//NONSGML v1.0//EN
CALSCALE:GREGORIAN
METHOD:PUBLISH
X-WR-CALNAME:Third Coast Percussion
X-ORIGINAL-URL:https://www.thirdcoastpercussion.com
X-WR-CALDESC:Events for Third Coast Percussion
BEGIN:VTIMEZONE
TZID:America/Los_Angeles
BEGIN:DAYLIGHT
TZOFFSETFROM:-0800
TZOFFSETTO:-0700
TZNAME:PDT
DTSTART:20180311T100000
END:DAYLIGHT
BEGIN:STANDARD
TZOFFSETFROM:-0700
TZOFFSETTO:-0800
TZNAME:PST
DTSTART:20181104T090000
END:STANDARD
END:VTIMEZONE
BEGIN:VEVENT
DTSTART;TZID=America/Los_Angeles:20180521T180000
DTEND;TZID=America/Los_Angeles:20180521T180000
DTSTAMP:20260425T161216
CREATED:20180317T100856Z
LAST-MODIFIED:20180317T100856Z
UID:4270-1526925600-1526925600@www.thirdcoastpercussion.com
SUMMARY:Embark Bash - Music Education Party!
DESCRIPTION:Celebrate music education with Third Coast Percussion and students from The People’s Music School! Join us at Center on Halsted’s Irving Harris Reception Hall for an evening of music\, food\, drink\, and fun to support “Embark“ and Third Coast Percussion’s other music education programs. There will be live performance by Third Coast Percussion\, one-of-a-kind silent auction items\, food\, drinks\, an instrument petting zoo\, and more. You’ll even get to make some music with us too! \nClick here for tickets or more information. Corporate sponsorship opportunities are also available. Contact us for details. \nThanks to our event sponsors! \nPremiere sponsors: \n– Foley & Lardner LLP\n– Anonymous TCP Fan \nSupporting Sponsor: \n– Beck Aluminum \nMajor support for “Embark” comes from The Robert & Isabelle Bass Foundation\, and Third Coast Percussion fans like you. \n
URL:https://www.thirdcoastpercussion.com/event/embark-bash-music-education-party/
LOCATION:Center on Halsted\, 3656 N Halsted St\, Chicago\, IL\, 60613\, United States
CATEGORIES:Chicago Concert Season
END:VEVENT
END:VCALENDAR