BEGIN:VCALENDAR
VERSION:2.0
PRODID:-//Third Coast Percussion - ECPv4.9.13//NONSGML v1.0//EN
CALSCALE:GREGORIAN
METHOD:PUBLISH
X-WR-CALNAME:Third Coast Percussion
X-ORIGINAL-URL:https://www.thirdcoastpercussion.com
X-WR-CALDESC:Events for Third Coast Percussion
BEGIN:VTIMEZONE
TZID:America/Los_Angeles
BEGIN:DAYLIGHT
TZOFFSETFROM:-0800
TZOFFSETTO:-0700
TZNAME:PDT
DTSTART:20180311T100000
END:DAYLIGHT
BEGIN:STANDARD
TZOFFSETFROM:-0700
TZOFFSETTO:-0800
TZNAME:PST
DTSTART:20181104T090000
END:STANDARD
END:VTIMEZONE
BEGIN:VEVENT
DTSTART;TZID=America/Los_Angeles:20180929T200000
DTEND;TZID=America/Los_Angeles:20180929T200000
DTSTAMP:20260419T202837
CREATED:20180605T134216Z
LAST-MODIFIED:20180605T134216Z
UID:4409-1538251200-1538251200@www.thirdcoastpercussion.com
SUMMARY:Harris Theater with Hubbard Street Dance Chicago - 2
DESCRIPTION:The world premiere of our new collaboration with Hubbard Street Dance Chicago\, composer Devonté Hynes (AKA Blood Orange)\, and choreographers Emma Portner\, Lil Buck\, and Jon Boogz. \nArrive at 7:00pm for Balcony Talks\, a free casual conversation about the performance before the show. No advanced reservations required. \nClick here for more info. \n
URL:https://www.thirdcoastpercussion.com/event/harris-theater-hubbard-street-dance-chicago-2/
LOCATION:Harris Theater at Millennium Park\, 205 E Randolph Drive\, Chicago\, IL\, 60601\, United States
CATEGORIES:Chicago Concert Season
END:VEVENT
END:VCALENDAR