BEGIN:VCALENDAR
VERSION:2.0
PRODID:-//Third Coast Percussion - ECPv4.9.13//NONSGML v1.0//EN
CALSCALE:GREGORIAN
METHOD:PUBLISH
X-WR-CALNAME:Third Coast Percussion
X-ORIGINAL-URL:https://www.thirdcoastpercussion.com
X-WR-CALDESC:Events for Third Coast Percussion
BEGIN:VTIMEZONE
TZID:America/Chicago
BEGIN:DAYLIGHT
TZOFFSETFROM:-0600
TZOFFSETTO:-0500
TZNAME:CDT
DTSTART:20160313T080000
END:DAYLIGHT
BEGIN:STANDARD
TZOFFSETFROM:-0500
TZOFFSETTO:-0600
TZNAME:CST
DTSTART:20161106T070000
END:STANDARD
END:VTIMEZONE
BEGIN:VEVENT
DTSTART;TZID=America/Chicago:20160315T183000
DTEND;TZID=America/Chicago:20160315T183000
DTSTAMP:20260421T100448
CREATED:20150731T012805Z
LAST-MODIFIED:20150731T012805Z
UID:2547-1458066600-1458066600@www.thirdcoastpercussion.com
SUMMARY:Kohler Arts Center - Family Show
DESCRIPTION:“WAVES” \nThis interactive all-ages family presentation and performance explores the science behind sound\, with a chance for everyone in the audience to play along with Third Coast Percussion. \nCONDON Fractalia\nMARTIN Waves \nClick here for more info. \n
URL:https://www.thirdcoastpercussion.com/event/kohler-arts-center/
LOCATION:MATRIX\, 608 New York Ave\, Sheboygan\, WI\, 53081\, United States
END:VEVENT
END:VCALENDAR