BEGIN:VCALENDAR
VERSION:2.0
PRODID:-//Third Coast Percussion - ECPv4.9.13//NONSGML v1.0//EN
CALSCALE:GREGORIAN
METHOD:PUBLISH
X-WR-CALNAME:Third Coast Percussion
X-ORIGINAL-URL:https://www.thirdcoastpercussion.com
X-WR-CALDESC:Events for Third Coast Percussion
BEGIN:VTIMEZONE
TZID:America/Chicago
BEGIN:DAYLIGHT
TZOFFSETFROM:-0600
TZOFFSETTO:-0500
TZNAME:CDT
DTSTART:20160313T080000
END:DAYLIGHT
BEGIN:STANDARD
TZOFFSETFROM:-0500
TZOFFSETTO:-0600
TZNAME:CST
DTSTART:20161106T070000
END:STANDARD
END:VTIMEZONE
BEGIN:VEVENT
DTSTART;TZID=America/Chicago:20160331T200000
DTEND;TZID=America/Chicago:20160331T200000
DTSTAMP:20260421T200320
CREATED:20150806T113338Z
LAST-MODIFIED:20150806T113338Z
UID:2551-1459454400-1459454400@www.thirdcoastpercussion.com
SUMMARY:Mondavi Center for the Performing Arts
DESCRIPTION:“Haunt of Last Nightfall” \nRising star of the opera world\, David T. Little\, writes music that is by turns tender\, elegiac\, dark\, and epic. His piece Haunt of Last Nightfall\, composed for Third Coast Percussion\, blends pre-recorded sounds of heavy metal with live percussion to describe the emotional landscape behind a tragic moment in El Salvadoran history: the massacre at El Mozote\, El Salvador in December 1981. \nClick here for more info. \n
URL:https://www.thirdcoastpercussion.com/event/mondavi-center-for-the-performing-arts/
LOCATION:Mondavi Center for the Arts – UC Davis\, 1 Shields Avenue\, Davis\, CA\, 95616\, United States
END:VEVENT
END:VCALENDAR