BEGIN:VCALENDAR
VERSION:2.0
PRODID:-//Third Coast Percussion - ECPv4.9.13//NONSGML v1.0//EN
CALSCALE:GREGORIAN
METHOD:PUBLISH
X-WR-CALNAME:Third Coast Percussion
X-ORIGINAL-URL:https://www.thirdcoastpercussion.com
X-WR-CALDESC:Events for Third Coast Percussion
BEGIN:VTIMEZONE
TZID:America/Chicago
BEGIN:DAYLIGHT
TZOFFSETFROM:-0600
TZOFFSETTO:-0500
TZNAME:CDT
DTSTART:20160313T080000
END:DAYLIGHT
BEGIN:STANDARD
TZOFFSETFROM:-0500
TZOFFSETTO:-0600
TZNAME:CST
DTSTART:20161106T070000
END:STANDARD
END:VTIMEZONE
BEGIN:VEVENT
DTSTART;VALUE=DATE:20160507
DTEND;VALUE=DATE:20160508
DTSTAMP:20260421T111928
CREATED:20150731T005913Z
LAST-MODIFIED:20150731T005913Z
UID:2539-1462579200-1462665599@www.thirdcoastpercussion.com
SUMMARY:Northwestern University - Residency Day 2
DESCRIPTION:Workshopping new percussion music with student composers from Northwestern University’s Bienen School of Music. \nSorry\, not open to the public. \n
URL:https://www.thirdcoastpercussion.com/event/northwestern-university-residency-day-2/
END:VEVENT
END:VCALENDAR