BEGIN:VCALENDAR
VERSION:2.0
PRODID:-//Third Coast Percussion - ECPv4.9.13//NONSGML v1.0//EN
CALSCALE:GREGORIAN
METHOD:PUBLISH
X-WR-CALNAME:Third Coast Percussion
X-ORIGINAL-URL:https://www.thirdcoastpercussion.com
X-WR-CALDESC:Events for Third Coast Percussion
BEGIN:VTIMEZONE
TZID:America/Los_Angeles
BEGIN:DAYLIGHT
TZOFFSETFROM:-0800
TZOFFSETTO:-0700
TZNAME:PDT
DTSTART:20190310T100000
END:DAYLIGHT
BEGIN:STANDARD
TZOFFSETFROM:-0700
TZOFFSETTO:-0800
TZNAME:PST
DTSTART:20191103T090000
END:STANDARD
END:VTIMEZONE
BEGIN:VEVENT
DTSTART;TZID=America/Los_Angeles:20191122T193000
DTEND;TZID=America/Los_Angeles:20191122T193000
DTSTAMP:20260420T042010
CREATED:20190715T172629Z
LAST-MODIFIED:20191121T194935Z
UID:5437-1574451000-1574451000@www.thirdcoastpercussion.com
SUMMARY:Pittsburg State University
DESCRIPTION:“Perpetulum” by Philip Glass was commissioned for Third Coast Percussion with lead support from the Maxine and Stuart Frankel Foundation.The work was co-commissioned by Elizabeth and Justus Schlichting for Segerstrom Center for the Arts\, Bravo! Vail Music Festival\, San Francisco Performances\, Town Hall Seattle\, Performance Santa Fe\, the University of Notre Dame’s DeBartolo Performing Arts Center\, and the Third Coast Percussion New Works Fund\, with additional support from Friedrich Burian\, Bruce Oltman\, MITO Settembre Musica\, The Saint Paul Chamber Orchestra’s Liquid Music Series\, and the Percussive Arts Society. \nDAVID SKIDMORE Donner\nPETER MARTIN BEND\nAUGUSTA READ THOMAS Resounding Earth\, Mvt. II (Prayer)\nGEMMA PEACOCKE Death Wish\nDEVONTÉ HYNES Perfectly Voiceless\nMARK APPLEBAUM Aphasia\nROBERT DILLON Ordering-instincts\nPHILIP GLASS Perpetulum\nDAVID SKIDMORE Torched and Wrecked \nClick here for more info and to purchase tickets. \n
URL:https://www.thirdcoastpercussion.com/event/pittsburg-state-university/
LOCATION:McCray Hall\, E Lindburg St\, Pittsburg\, KS\, 66762\, United States
END:VEVENT
END:VCALENDAR