BEGIN:VCALENDAR
VERSION:2.0
PRODID:-//Third Coast Percussion - ECPv4.9.13//NONSGML v1.0//EN
CALSCALE:GREGORIAN
METHOD:PUBLISH
X-WR-CALNAME:Third Coast Percussion
X-ORIGINAL-URL:https://www.thirdcoastpercussion.com
X-WR-CALDESC:Events for Third Coast Percussion
BEGIN:VTIMEZONE
TZID:America/Los_Angeles
BEGIN:DAYLIGHT
TZOFFSETFROM:-0800
TZOFFSETTO:-0700
TZNAME:PDT
DTSTART:20170312T100000
END:DAYLIGHT
BEGIN:STANDARD
TZOFFSETFROM:-0700
TZOFFSETTO:-0800
TZNAME:PST
DTSTART:20171105T090000
END:STANDARD
END:VTIMEZONE
BEGIN:VEVENT
DTSTART;TZID=America/Los_Angeles:20170304T200000
DTEND;TZID=America/Los_Angeles:20170304T200000
DTSTAMP:20260421T223433
CREATED:20160621T010856Z
LAST-MODIFIED:20160621T010856Z
UID:2971-1488657600-1488657600@www.thirdcoastpercussion.com
SUMMARY:Society for the Performing Arts - Houston
DESCRIPTION:Lyrical Geometry \nGLENN KOTCHE Wild Sound\, Mvt. IV\nTHIERRY DE MEY Table Music\nAUGUSTA READ THOMAS Resounding Earth\, Mvt. II\nSTEVE REICH Mallet Quartet\nPETER MARTIN Bend\nROBERT DILLON Ordering-Instincts\nISAAC SCHANKLER Blindnesses\nDAVID SKIDMORE Aliens with Extraordinary Abilities \nClick here for more info. \n
URL:https://www.thirdcoastpercussion.com/event/society-performing-arts-houston/
LOCATION:Wortham Center – Cullen Theater\, 501 Texas Ave\, Houston\, TX\, 77002\, United States
END:VEVENT
END:VCALENDAR