BEGIN:VCALENDAR
VERSION:2.0
PRODID:-//Third Coast Percussion - ECPv4.9.13//NONSGML v1.0//EN
CALSCALE:GREGORIAN
METHOD:PUBLISH
X-WR-CALNAME:Third Coast Percussion
X-ORIGINAL-URL:https://www.thirdcoastpercussion.com
X-WR-CALDESC:Events for Third Coast Percussion
BEGIN:VTIMEZONE
TZID:America/Los_Angeles
BEGIN:DAYLIGHT
TZOFFSETFROM:-0800
TZOFFSETTO:-0700
TZNAME:PDT
DTSTART:20170312T100000
END:DAYLIGHT
BEGIN:STANDARD
TZOFFSETFROM:-0700
TZOFFSETTO:-0800
TZNAME:PST
DTSTART:20171105T090000
END:STANDARD
END:VTIMEZONE
BEGIN:VEVENT
DTSTART;TZID=America/Los_Angeles:20170412T193000
DTEND;TZID=America/Los_Angeles:20170412T193000
DTSTAMP:20260421T114809
CREATED:20160701T191744Z
LAST-MODIFIED:20160701T191744Z
UID:2998-1492025400-1492025400@www.thirdcoastpercussion.com
SUMMARY:St. Cloud State University
DESCRIPTION:KOTCHE Wild Sound mvt 4 (8)\nSCHANKLER Blindnesses (8)\nREICH Nagoya (6)\nREICH Music for Drums (8)\nIntermission\nMARTIN Bend (8)\nKOTCHE – Drumkit Quartet no. 51 (10)\nSKIDMORE – Aliens with Extraordinary Abilities (15) \nClick here for more info. \n
URL:https://www.thirdcoastpercussion.com/event/st-cloud-state-university/
END:VEVENT
END:VCALENDAR