BEGIN:VCALENDAR
VERSION:2.0
PRODID:-//Third Coast Percussion - ECPv4.9.13//NONSGML v1.0//EN
CALSCALE:GREGORIAN
METHOD:PUBLISH
X-WR-CALNAME:Third Coast Percussion
X-ORIGINAL-URL:https://www.thirdcoastpercussion.com
X-WR-CALDESC:Events for Third Coast Percussion
BEGIN:VTIMEZONE
TZID:America/Los_Angeles
BEGIN:DAYLIGHT
TZOFFSETFROM:-0800
TZOFFSETTO:-0700
TZNAME:PDT
DTSTART:20190310T100000
END:DAYLIGHT
BEGIN:STANDARD
TZOFFSETFROM:-0700
TZOFFSETTO:-0800
TZNAME:PST
DTSTART:20191103T090000
END:STANDARD
END:VTIMEZONE
BEGIN:VEVENT
DTSTART;TZID=America/Los_Angeles:20190526T143000
DTEND;TZID=America/Los_Angeles:20190526T143000
DTSTAMP:20260420T064518
CREATED:20180711T145935Z
LAST-MODIFIED:20180711T145935Z
UID:4627-1558881000-1558881000@www.thirdcoastpercussion.com
SUMMARY:Taiwan International Percussion Convention
DESCRIPTION:TCP is thrilled to be invited to the Taiwan International Percussion Convention. Based on the vision of “Bringing the world to Taiwan\, and taking Taiwan to the world”\, the Ju Percussion Group has hosted the triennial TIPC since 1993. The purpose of this convention is to enhance mutual understanding and experience exchanging in the international percussion community and to increase the popularity of percussive music in Taiwan.  After nine TIPC have been held throughout the past two-plus decades\, TIPC has established its fine reputation globally and was remarked by Percussive Arts Society (PAS) as an event that provides “a superb international percussion convention model”. \nConcert Program \nTHIRD COAST PERCUSSION Niagara from Paddle to the Sea\nSTEVE REICH Mallet Quartet\nAUGUSTA READ THOMAS Resounding Earth\, Movement 2\nDEVONTÉ HYNES Perfectly Voiceless\nJOHN CAGE Third Construction\nPETER MARTIN BEND\nROBERT DILLON Ordering-instincts\nPHILIP GLASS\, arr. THIRD COAST PERCUSSION Amazon River\nDAVID SKIDMORE Aliens With Extraordinary Abilities (excerpts) \n  \n\nThis engagement is supported by Mid Atlantic Arts Foundation through USArtists International in partnership with the National Endowment for the Arts\, the Andrew W. Mellon Foundation and the John D. and Catherine T. MacArthur Foundation. \n
URL:https://www.thirdcoastpercussion.com/event/taiwan-international-percussion-festival/
LOCATION:National Theatre and Concert Hall\, 10048 Chung-Shan South Road\, Taipei\, 00000\, Taiwan
END:VEVENT
END:VCALENDAR