BEGIN:VCALENDAR
VERSION:2.0
PRODID:-//Third Coast Percussion - ECPv4.9.13//NONSGML v1.0//EN
CALSCALE:GREGORIAN
METHOD:PUBLISH
X-WR-CALNAME:Third Coast Percussion
X-ORIGINAL-URL:https://www.thirdcoastpercussion.com
X-WR-CALDESC:Events for Third Coast Percussion
BEGIN:VTIMEZONE
TZID:America/Los_Angeles
BEGIN:DAYLIGHT
TZOFFSETFROM:-0800
TZOFFSETTO:-0700
TZNAME:PDT
DTSTART:20190310T100000
END:DAYLIGHT
BEGIN:STANDARD
TZOFFSETFROM:-0700
TZOFFSETTO:-0800
TZNAME:PST
DTSTART:20191103T090000
END:STANDARD
END:VTIMEZONE
BEGIN:VEVENT
DTSTART;TZID=America/Los_Angeles:20190502T180000
DTEND;TZID=America/Los_Angeles:20190502T203000
DTSTAMP:20260420T082533
CREATED:20190220T204219Z
LAST-MODIFIED:20190220T204219Z
UID:5117-1556820000-1556829000@www.thirdcoastpercussion.com
SUMMARY:TCP's 2nd Annual Embark Bash! - Music Education Party
DESCRIPTION:Come PLAY with us at Embark Bash 2019! \nJoin Third Coast Percussion at Center on Halsted’s Irving Harris Reception Hall for an evening of music\, food\, drink\, and fun to support “Embark” and Third Coast Percussion’s other music education programs. This season’s “Embark” programming focuses on PLAY\, and we can’t wait to share it with you! \nAlongside students from The People’s Music School\, we’ll explore TCP’s latest community-music project\, called “The Bell Ringers“\, which inspired this season’s “Embark” curriculum and our Bash theme: PLAY! See how these students transform classroom music-making games into a beautiful piece of music! There will be interactive performances\, one-of-a-kind silent auction items\, food\, drinks\, and more. \n\n\nAnd even if you can’t make it to the Bash\, please consider making a donation to “Embark”. Corporate sponsorship opportunities are also available for any size organization. Contact us for details. \n\nSpecial thanks to our Premier Sponsor\n\n \nand to our Sponsors Circle for their support of Embark Bash 2019!\nJohn Bierbusse\nTeddy Dean Boys\nJeffrey Brenner\nSusan and Friedrich Burian\nSara and Jim Coffou\nTerrell and Jill Isselhard\nCharles L. Katzenmeyer\nLiesel Lavery\nMarge and Larry Sondler\nMichael and Mary Woolever \n\nThis program is made possible with major support from the Robert & Isabelle Bass Foundation and the Julian Family Foundation\, as well as a grant from the City of Chicago Department of Cultural Affairs & Special Events CityArts Grant Program\, and the generosity of Third Coast Percussion fans like you! Thank you! \n
URL:https://www.thirdcoastpercussion.com/event/tcps-2nd-annual-embark-bash-music-education-party/
LOCATION:Center on Halsted\, 3656 N Halsted St\, Chicago\, IL\, 60613\, United States
END:VEVENT
END:VCALENDAR