BEGIN:VCALENDAR
VERSION:2.0
PRODID:-//Third Coast Percussion - ECPv4.9.13//NONSGML v1.0//EN
CALSCALE:GREGORIAN
METHOD:PUBLISH
X-WR-CALNAME:Third Coast Percussion
X-ORIGINAL-URL:https://www.thirdcoastpercussion.com
X-WR-CALDESC:Events for Third Coast Percussion
BEGIN:VTIMEZONE
TZID:America/Los_Angeles
BEGIN:DAYLIGHT
TZOFFSETFROM:-0800
TZOFFSETTO:-0700
TZNAME:PDT
DTSTART:20200308T100000
END:DAYLIGHT
BEGIN:STANDARD
TZOFFSETFROM:-0700
TZOFFSETTO:-0800
TZNAME:PST
DTSTART:20201101T090000
END:STANDARD
END:VTIMEZONE
BEGIN:VEVENT
DTSTART;VALUE=DATE:20200106
DTEND;VALUE=DATE:20200110
DTSTAMP:20260420T015011
CREATED:20190716T160413Z
LAST-MODIFIED:20200102T214537Z
UID:5464-1578268800-1578614399@www.thirdcoastpercussion.com
SUMMARY:Toolbox International Creative Academy Festival (TICA)
DESCRIPTION:TCP is thrilled to make its Hong Kong debut at the Toolbox International Creative Academy Festival (TICA)! This festival is organized by Toolbox Percussion. Third Coast will perform two concerts alongside Toolbox Percussion\, on January 6 and 9. \nClick here for more info and to purchase tickets. \nJanuary 6\, Youth Square’s Y-Studio \nPHILIP GLASS Xingu River\nPHILIP GLASS Amazon River\nGEMMA PEACOCKE Death Wish\nDAVID SKIDMORE Don’t Eat Young\nDAVID SKIDMORE Take Anything You Want\nDAVID SKIDMORE Torched and Wrecked \nJanuary 9 in Youth Square’s Y-Theatre \nTIM PAGE Nature\, Industry\, Ritual\nPETER MARTIN BEND\nAUGUSTA READ THOMAS Resounding Earth\, Mvt. II: Prayer\nDEVONTÉ HYNES Perfectly Voiceless\nPHILIP GLASS Perpetulum\nSTEVE REICH Sextet\, Mvt. V \n
URL:https://www.thirdcoastpercussion.com/event/toolbox-international-creative-academy-festival-tica/
LOCATION:Youth Square\, 238 Chai Wan Road\, Chai Wan\, Hong Kong
END:VEVENT
END:VCALENDAR