BEGIN:VCALENDAR
VERSION:2.0
PRODID:-//Third Coast Percussion - ECPv4.9.13//NONSGML v1.0//EN
CALSCALE:GREGORIAN
METHOD:PUBLISH
X-WR-CALNAME:Third Coast Percussion
X-ORIGINAL-URL:https://www.thirdcoastpercussion.com
X-WR-CALDESC:Events for Third Coast Percussion
BEGIN:VTIMEZONE
TZID:America/Los_Angeles
BEGIN:DAYLIGHT
TZOFFSETFROM:-0800
TZOFFSETTO:-0700
TZNAME:PDT
DTSTART:20180311T100000
END:DAYLIGHT
BEGIN:STANDARD
TZOFFSETFROM:-0700
TZOFFSETTO:-0800
TZNAME:PST
DTSTART:20181104T090000
END:STANDARD
END:VTIMEZONE
BEGIN:VEVENT
DTSTART;TZID=America/Los_Angeles:20180216T193000
DTEND;TZID=America/Los_Angeles:20180216T193000
DTSTAMP:20260421T114646
CREATED:20170509T001315Z
LAST-MODIFIED:20170509T001315Z
UID:3236-1518809400-1518809400@www.thirdcoastpercussion.com
SUMMARY:University of Chicago Presents
DESCRIPTION:Part of a festival dedicated to composer György Ligeti \nLIGETI Continuum\nCERRONE Goldbeater’s Skin\nLIGETI Poème Symphonique\nLIGETI Síppal\, dobbal\, nádihegedüvel\nw/ Rachel Calloway\, mezzo soprano \nClick here for more info. \n  \nGoldbeater’s Skin was commissioned by Elizabeth and Justus Schlichting and the University of\nNotre Dame’s DeBartolo Performing Arts Center.\nThird Coast Percussion’s Cerrone/Ligeti Project is made possible by generous support from\nthe Elizabeth F. Cheney Foundation. \n
URL:https://www.thirdcoastpercussion.com/event/university-chicago-presents/
LOCATION:Reva and David Logan Center for the Arts\, 915 E 60th St\, Chicago\, IL\, 60637\, United States
CATEGORIES:Chicago Concert Season
END:VEVENT
END:VCALENDAR