BEGIN:VCALENDAR
VERSION:2.0
PRODID:-//Third Coast Percussion - ECPv4.9.13//NONSGML v1.0//EN
CALSCALE:GREGORIAN
METHOD:PUBLISH
X-WR-CALNAME:Third Coast Percussion
X-ORIGINAL-URL:https://www.thirdcoastpercussion.com
X-WR-CALDESC:Events for Third Coast Percussion
BEGIN:VTIMEZONE
TZID:America/Chicago
BEGIN:DAYLIGHT
TZOFFSETFROM:-0600
TZOFFSETTO:-0500
TZNAME:CDT
DTSTART:20170312T080000
END:DAYLIGHT
BEGIN:STANDARD
TZOFFSETFROM:-0500
TZOFFSETTO:-0600
TZNAME:CST
DTSTART:20171105T070000
END:STANDARD
END:VTIMEZONE
BEGIN:VEVENT
DTSTART;TZID=America/Chicago:20170318T200000
DTEND;TZID=America/Chicago:20170318T200000
DTSTAMP:20260421T194305
CREATED:20160621T012347Z
LAST-MODIFIED:20160621T012347Z
UID:2975-1489867200-1489867200@www.thirdcoastpercussion.com
SUMMARY:University Musical Society - University of Michigan
DESCRIPTION:Steve Reich at 80: Music for 18 Musicians \nwith EIGHTH BLACKBIRD and special guests \nSTEVE REICH Sextet \nSTEVE REICH Music for 18 Musicians \nClick here for more info. \n
URL:https://www.thirdcoastpercussion.com/event/university-musical-society-university-michigan/
LOCATION:UMS – Hill Auditorium\, 825 N University Ave\, Ann Arbor\, MI\, 48109\, United States
END:VEVENT
END:VCALENDAR