BEGIN:VCALENDAR
VERSION:2.0
PRODID:-//Third Coast Percussion - ECPv4.9.13//NONSGML v1.0//EN
CALSCALE:GREGORIAN
METHOD:PUBLISH
X-WR-CALNAME:Third Coast Percussion
X-ORIGINAL-URL:https://www.thirdcoastpercussion.com
X-WR-CALDESC:Events for Third Coast Percussion
BEGIN:VTIMEZONE
TZID:America/Los_Angeles
BEGIN:DAYLIGHT
TZOFFSETFROM:-0800
TZOFFSETTO:-0700
TZNAME:PDT
DTSTART:20170312T100000
END:DAYLIGHT
BEGIN:STANDARD
TZOFFSETFROM:-0700
TZOFFSETTO:-0800
TZNAME:PST
DTSTART:20171105T090000
END:STANDARD
END:VTIMEZONE
BEGIN:VEVENT
DTSTART;VALUE=DATE:20171201
DTEND;VALUE=DATE:20171202
DTSTAMP:20260421T185323
CREATED:20170508T183222Z
LAST-MODIFIED:20170508T183222Z
UID:3229-1512086400-1512172799@www.thirdcoastpercussion.com
SUMMARY:University of Notre Dame - DeBartolo Performing Arts Center
DESCRIPTION:DeBartolo Commissions \nSON LUX New Work TBA (World premiere\, commissioned by the University of Notre Dame’s DeBartolo Performing Arts Center and Third Coast Percussion’s New Works Fund)\nBRYARS The Other Side of the River (Commissioned by the University of Notre Dame’s DeBartolo Performing Arts Center and Peak Performances @ Montclair State University)\n…plus other works TBA \nClick here for more info. \n
URL:https://www.thirdcoastpercussion.com/event/university-notre-dame-debartolo-performing-arts-center/
LOCATION:DeBartolo Performing Arts Center\, 100 Performing Arts Center\, Notre Dame\, IN\, 46556\, United States
END:VEVENT
END:VCALENDAR