BEGIN:VCALENDAR
VERSION:2.0
PRODID:-//Third Coast Percussion - ECPv4.9.13//NONSGML v1.0//EN
CALSCALE:GREGORIAN
METHOD:PUBLISH
X-WR-CALNAME:Third Coast Percussion
X-ORIGINAL-URL:https://www.thirdcoastpercussion.com
X-WR-CALDESC:Events for Third Coast Percussion
BEGIN:VTIMEZONE
TZID:America/Los_Angeles
BEGIN:DAYLIGHT
TZOFFSETFROM:-0800
TZOFFSETTO:-0700
TZNAME:PDT
DTSTART:20180311T100000
END:DAYLIGHT
BEGIN:STANDARD
TZOFFSETFROM:-0700
TZOFFSETTO:-0800
TZNAME:PST
DTSTART:20181104T090000
END:STANDARD
END:VTIMEZONE
BEGIN:VEVENT
DTSTART;TZID=America/Los_Angeles:20180125T200000
DTEND;TZID=America/Los_Angeles:20180125T200000
DTSTAMP:20260421T200016
CREATED:20170508T183748Z
LAST-MODIFIED:20170508T183748Z
UID:3230-1516910400-1516910400@www.thirdcoastpercussion.com
SUMMARY:University of Washington - Meany Center
DESCRIPTION:Paddle to the Sea \nTHIRD COAST PERCUSSION Paddle to the Sea (co-commissioned by the Meany Center)\nGLASS Aguas da Amazonia (arr. by Third Coast Percussion)\nDRUCKMAN Reflections on the Nature of Water\nTRADITIONAL Chigwaya (arr. by Musekiwa Chingodza) \nClick here for more info. \nThis project is supported by the Paul M. Angell Family Foundation and a grant from the National Endowment for the Arts\, with additional support from the Elizabeth F Cheney Foundation\, and is made possible through a collaboration with the National Film Board of Canada. \n           \nPaddle to the Sea was commissioned by the Cleveland Museum of Art\, the Meany Center for the Performing Arts at University of Washington\, ArtsLIVE at University of Dayton\, and the University of Notre Dame’s DeBartolo Performing Arts Center. \n  \n
URL:https://www.thirdcoastpercussion.com/event/university-washington-meany-center/
LOCATION:Meany Center for the Performing Arts\, Meany Hall\, Seattle\, WA\, 98105\, United States
END:VEVENT
END:VCALENDAR