BEGIN:VCALENDAR
VERSION:2.0
PRODID:-//Third Coast Percussion - ECPv4.9.13//NONSGML v1.0//EN
CALSCALE:GREGORIAN
METHOD:PUBLISH
X-WR-CALNAME:Third Coast Percussion
X-ORIGINAL-URL:https://www.thirdcoastpercussion.com
X-WR-CALDESC:Events for Third Coast Percussion
BEGIN:VTIMEZONE
TZID:America/Chicago
BEGIN:DAYLIGHT
TZOFFSETFROM:-0600
TZOFFSETTO:-0500
TZNAME:CDT
DTSTART:20140309T080000
END:DAYLIGHT
BEGIN:STANDARD
TZOFFSETFROM:-0500
TZOFFSETTO:-0600
TZNAME:CST
DTSTART:20141102T070000
END:STANDARD
END:VTIMEZONE
BEGIN:VEVENT
DTSTART;TZID=America/Chicago:20140307T200000
DTEND;TZID=America/Chicago:20140307T200000
DTSTAMP:20260424T192940
CREATED:20130711T123138Z
LAST-MODIFIED:20130711T123138Z
UID:1277-1394222400-1394222400@www.thirdcoastpercussion.com
SUMMARY:McMaster University Celebrity Concert Series
DESCRIPTION:8:00 p.m.\nConvocation Hall UH213\n1280 Main Street West\nHamilton\, ON\nTickets: $20 regular/$15 senior/$5 students \nCONDON Fractalia\nDE MEY Table Music\nTHOMAS Resounding Earth (mvt 2 and 3)\nREICH Music for Pieces of Wood\nBROSTROM Twilight\nLUNSQUI Shi\nCAGE Third Construction \nMore info \n
URL:https://www.thirdcoastpercussion.com/event/mcmaster-university-celebrity-concert-series/
LOCATION:Convocation Hall – UH213\, 1280 Main Street West\, Hamilton\, Ontario\, L8S 4L8\, Canada
END:VEVENT
BEGIN:VEVENT
DTSTART;TZID=America/Chicago:20140307T200000
DTEND;TZID=America/Chicago:20140307T200000
DTSTAMP:20260424T192940
CREATED:20130711T123138Z
LAST-MODIFIED:20130711T123138Z
UID:3857-1394222400-1394222400@www.thirdcoastpercussion.com
SUMMARY:McMaster University Celebrity Concert Series
DESCRIPTION:8:00 p.m.\nConvocation Hall UH213\n1280 Main Street West\nHamilton\, ON\nTickets: $20 regular/$15 senior/$5 students \nCONDON Fractalia\nDE MEY Table Music\nTHOMAS Resounding Earth (mvt 2 and 3)\nREICH Music for Pieces of Wood\nBROSTROM Twilight\nLUNSQUI Shi\nCAGE Third Construction \nMore info \n
URL:https://www.thirdcoastpercussion.com/event/mcmaster-university-celebrity-concert-series-2/
LOCATION:Convocation Hall – UH213\, 1280 Main Street West\, Hamilton\, Ontario\, L8S 4L8\, Canada
END:VEVENT
END:VCALENDAR