BEGIN:VCALENDAR
VERSION:2.0
PRODID:-//Third Coast Percussion - ECPv4.9.13//NONSGML v1.0//EN
CALSCALE:GREGORIAN
METHOD:PUBLISH
X-WR-CALNAME:Third Coast Percussion
X-ORIGINAL-URL:https://www.thirdcoastpercussion.com
X-WR-CALDESC:Events for Third Coast Percussion
BEGIN:VTIMEZONE
TZID:America/Chicago
BEGIN:DAYLIGHT
TZOFFSETFROM:-0600
TZOFFSETTO:-0500
TZNAME:CDT
DTSTART:20140309T080000
END:DAYLIGHT
BEGIN:STANDARD
TZOFFSETFROM:-0500
TZOFFSETTO:-0600
TZNAME:CST
DTSTART:20141102T070000
END:STANDARD
END:VTIMEZONE
BEGIN:VEVENT
DTSTART;TZID=America/Chicago:20140324T200000
DTEND;TZID=America/Chicago:20140324T200000
DTSTAMP:20260423T190700
CREATED:20130711T123552Z
LAST-MODIFIED:20130711T123552Z
UID:1279-1395691200-1395691200@www.thirdcoastpercussion.com
SUMMARY:University at Buffalo
DESCRIPTION:CONDON Fractalia\nREICH Mallet Quartet\nCAGE Third Construction\nTHOMAS Resounding Earth \nLippes Concert Hall in Slee Hall\n7:30 p.m.\nAdvance: $12/$9/$5\nDoor: $20/$15/$8 \nMore info \n
URL:https://www.thirdcoastpercussion.com/event/university-at-buffalo/
LOCATION:Lippes Concert Hall in Slee Hall\, Slee Hall\, Buffalo\, NY\, 14228\, United States
END:VEVENT
BEGIN:VEVENT
DTSTART;TZID=America/Chicago:20140324T200000
DTEND;TZID=America/Chicago:20140324T200000
DTSTAMP:20260423T190700
CREATED:20130711T123552Z
LAST-MODIFIED:20130711T123552Z
UID:3858-1395691200-1395691200@www.thirdcoastpercussion.com
SUMMARY:University at Buffalo
DESCRIPTION:CONDON Fractalia\nREICH Mallet Quartet\nCAGE Third Construction\nTHOMAS Resounding Earth \nLippes Concert Hall in Slee Hall\n7:30 p.m.\nAdvance: $12/$9/$5\nDoor: $20/$15/$8 \nMore info \n
URL:https://www.thirdcoastpercussion.com/event/university-at-buffalo-2/
LOCATION:Lippes Concert Hall in Slee Hall\, Slee Hall\, Buffalo\, NY\, 14228\, United States
END:VEVENT
END:VCALENDAR