BEGIN:VCALENDAR
VERSION:2.0
PRODID:-//Third Coast Percussion - ECPv4.9.13//NONSGML v1.0//EN
CALSCALE:GREGORIAN
METHOD:PUBLISH
X-WR-CALNAME:Third Coast Percussion
X-ORIGINAL-URL:https://www.thirdcoastpercussion.com
X-WR-CALDESC:Events for Third Coast Percussion
BEGIN:VTIMEZONE
TZID:America/Chicago
BEGIN:DAYLIGHT
TZOFFSETFROM:-0600
TZOFFSETTO:-0500
TZNAME:CDT
DTSTART:20140309T080000
END:DAYLIGHT
BEGIN:STANDARD
TZOFFSETFROM:-0500
TZOFFSETTO:-0600
TZNAME:CST
DTSTART:20141102T070000
END:STANDARD
END:VTIMEZONE
BEGIN:VEVENT
DTSTART;TZID=America/Chicago:20141122T160000
DTEND;TZID=America/Chicago:20141122T160000
DTSTAMP:20260422T114031
CREATED:20140709T003650Z
LAST-MODIFIED:20140709T003650Z
UID:1796-1416672000-1416672000@www.thirdcoastpercussion.com
SUMMARY:Percussive Arts Society International Convention
DESCRIPTION:Indiana Convention Center\n4:00 p.m. \nCONDON Fractalia\nLUNSQUI Shi\nTHOMAS Resounding Earth\, mvt 2\nSKIDMORE Trying\nCAGE Third Construction  \n
URL:https://www.thirdcoastpercussion.com/event/percussive-arts-society-international-convention/
LOCATION:Indiana Convention Center\, 100 S Capitol Street\, Indianapolis\, IN\, 46225\, United States
END:VEVENT
END:VCALENDAR